BEGIN:VCALENDAR
VERSION:2.0
PRODID:-//Пласт Торонто - ECPv6.15.17//NONSGML v1.0//EN
CALSCALE:GREGORIAN
METHOD:PUBLISH
X-WR-CALNAME:Пласт Торонто
X-ORIGINAL-URL:https://www.plasttoronto.ca
X-WR-CALDESC:Events for Пласт Торонто
REFRESH-INTERVAL;VALUE=DURATION:PT1H
X-Robots-Tag:noindex
X-PUBLISHED-TTL:PT1H
BEGIN:VTIMEZONE
TZID:America/New_York
BEGIN:DAYLIGHT
TZOFFSETFROM:-0500
TZOFFSETTO:-0400
TZNAME:EDT
DTSTART:20180311T070000
END:DAYLIGHT
BEGIN:STANDARD
TZOFFSETFROM:-0400
TZOFFSETTO:-0500
TZNAME:EST
DTSTART:20181104T060000
END:STANDARD
BEGIN:DAYLIGHT
TZOFFSETFROM:-0500
TZOFFSETTO:-0400
TZNAME:EDT
DTSTART:20190310T070000
END:DAYLIGHT
BEGIN:STANDARD
TZOFFSETFROM:-0400
TZOFFSETTO:-0500
TZNAME:EST
DTSTART:20191103T060000
END:STANDARD
BEGIN:DAYLIGHT
TZOFFSETFROM:-0500
TZOFFSETTO:-0400
TZNAME:EDT
DTSTART:20200308T070000
END:DAYLIGHT
BEGIN:STANDARD
TZOFFSETFROM:-0400
TZOFFSETTO:-0500
TZNAME:EST
DTSTART:20201101T060000
END:STANDARD
BEGIN:DAYLIGHT
TZOFFSETFROM:-0500
TZOFFSETTO:-0400
TZNAME:EDT
DTSTART:20210314T070000
END:DAYLIGHT
BEGIN:STANDARD
TZOFFSETFROM:-0400
TZOFFSETTO:-0500
TZNAME:EST
DTSTART:20211107T060000
END:STANDARD
END:VTIMEZONE
BEGIN:VEVENT
DTSTART;TZID=America/New_York:20200606T143000
DTEND;TZID=America/New_York:20200606T160000
DTSTAMP:20260421T132151
CREATED:20191209T153019Z
LAST-MODIFIED:20191209T153019Z
UID:3616-1591453800-1591459200@www.plasttoronto.ca
SUMMARY:Ройові Сходини (останні)
DESCRIPTION:
URL:https://www.plasttoronto.ca/event/%d1%80%d0%be%d0%b9%d0%be%d0%b2%d1%96-%d1%81%d1%85%d0%be%d0%b4%d0%b8%d0%bd%d0%b8-%d0%be%d1%81%d1%82%d0%b0%d0%bd%d0%bd%d1%96/
CATEGORIES:Новацтво
END:VEVENT
BEGIN:VEVENT
DTSTART;TZID=America/New_York:20200530T143000
DTEND;TZID=America/New_York:20200530T160000
DTSTAMP:20260421T132151
CREATED:20191209T153019Z
LAST-MODIFIED:20191209T153019Z
UID:3615-1590849000-1590854400@www.plasttoronto.ca
SUMMARY:Ройові Сходини
DESCRIPTION:
URL:https://www.plasttoronto.ca/event/%d1%80%d0%be%d0%b9%d0%be%d0%b2%d1%96-%d1%81%d1%85%d0%be%d0%b4%d0%b8%d0%bd%d0%b8-3/
CATEGORIES:Новацтво
END:VEVENT
BEGIN:VEVENT
DTSTART;TZID=America/New_York:20200523T000000
DTEND;TZID=America/New_York:20200523T235959
DTSTAMP:20260421T132151
CREATED:20191209T153018Z
LAST-MODIFIED:20191209T153018Z
UID:3614-1590192000-1590278399@www.plasttoronto.ca
SUMMARY:Ройові Сходини
DESCRIPTION:
URL:https://www.plasttoronto.ca/event/%d1%80%d0%be%d0%b9%d0%be%d0%b2%d1%96-%d1%81%d1%85%d0%be%d0%b4%d0%b8%d0%bd%d0%b8-2/
CATEGORIES:Новацтво
END:VEVENT
BEGIN:VEVENT
DTSTART;TZID=America/New_York:20200516T000000
DTEND;TZID=America/New_York:20200516T235959
DTSTAMP:20260421T132151
CREATED:20191209T153018Z
LAST-MODIFIED:20191209T153018Z
UID:3613-1589587200-1589673599@www.plasttoronto.ca
SUMMARY:Нема Сходин
DESCRIPTION:
URL:https://www.plasttoronto.ca/event/%d0%bd%d0%b5%d0%bc%d0%b0-%d1%81%d1%85%d0%be%d0%b4%d0%b8%d0%bd-6/
CATEGORIES:Новацтво
END:VEVENT
BEGIN:VEVENT
DTSTART;TZID=America/New_York:20200509T143000
DTEND;TZID=America/New_York:20200509T160000
DTSTAMP:20260421T132151
CREATED:20191209T153018Z
LAST-MODIFIED:20191209T153018Z
UID:3612-1589034600-1589040000@www.plasttoronto.ca
SUMMARY:Ройові Сходини
DESCRIPTION:
URL:https://www.plasttoronto.ca/event/%d1%80%d0%be%d0%b9%d0%be%d0%b2%d1%96-%d1%81%d1%85%d0%be%d0%b4%d0%b8%d0%bd%d0%b8/
CATEGORIES:Новацтво
END:VEVENT
BEGIN:VEVENT
DTSTART;TZID=America/New_York:20200506T190000
DTEND;TZID=America/New_York:20200506T200000
DTSTAMP:20260421T132151
CREATED:20191209T153016Z
LAST-MODIFIED:20191209T153016Z
UID:3611-1588791600-1588795200@www.plasttoronto.ca
SUMMARY:Кадра
DESCRIPTION:
URL:https://www.plasttoronto.ca/event/%d0%ba%d0%b0%d0%b4%d1%80%d0%b0-3/
CATEGORIES:Новацтво
END:VEVENT
BEGIN:VEVENT
DTSTART;TZID=America/New_York:20200502T143000
DTEND;TZID=America/New_York:20200502T160000
DTSTAMP:20260421T132151
CREATED:20191209T153016Z
LAST-MODIFIED:20191209T153016Z
UID:3610-1588429800-1588435200@www.plasttoronto.ca
SUMMARY:Ройові Сходини (7 - гніздові)
DESCRIPTION:
URL:https://www.plasttoronto.ca/event/%d1%80%d0%be%d0%b9%d0%be%d0%b2%d1%96-%d1%81%d1%85%d0%be%d0%b4%d0%b8%d0%bd%d0%b8-7-%d0%b3%d0%bd%d1%96%d0%b7%d0%b4%d0%be%d0%b2%d1%96-2/
CATEGORIES:Новацтво
END:VEVENT
BEGIN:VEVENT
DTSTART;TZID=America/New_York:20200425T160000
DTEND;TZID=America/New_York:20200425T160000
DTSTAMP:20260421T132151
CREATED:20191209T153016Z
LAST-MODIFIED:20200415T142730Z
UID:3609-1587830400-1587830400@www.plasttoronto.ca
SUMMARY:новацькі сходини - ВІДКЛИКАНІ до кінця квітня 2020р. відкликані: Ройові Сходини (5 - гніздові)
DESCRIPTION:
URL:https://www.plasttoronto.ca/event/%d1%80%d0%be%d0%b9%d0%be%d0%b2%d1%96-%d1%81%d1%85%d0%be%d0%b4%d0%b8%d0%bd%d0%b8-5-%d0%b3%d0%bd%d1%96%d0%b7%d0%b4%d0%be%d0%b2%d1%96-2/
CATEGORIES:Новацтво
END:VEVENT
BEGIN:VEVENT
DTSTART;TZID=America/New_York:20200418T000000
DTEND;TZID=America/New_York:20200418T235959
DTSTAMP:20260421T132151
CREATED:20191209T153015Z
LAST-MODIFIED:20191209T153015Z
UID:3608-1587168000-1587254399@www.plasttoronto.ca
SUMMARY:Нема Сходин
DESCRIPTION:
URL:https://www.plasttoronto.ca/event/%d0%bd%d0%b5%d0%bc%d0%b0-%d1%81%d1%85%d0%be%d0%b4%d0%b8%d0%bd-5/
CATEGORIES:Новацтво
END:VEVENT
BEGIN:VEVENT
DTSTART;TZID=America/New_York:20200411T000000
DTEND;TZID=America/New_York:20200411T235959
DTSTAMP:20260421T132151
CREATED:20191209T153015Z
LAST-MODIFIED:20191209T153015Z
UID:3607-1586563200-1586649599@www.plasttoronto.ca
SUMMARY:Нема Сходин
DESCRIPTION:
URL:https://www.plasttoronto.ca/event/%d0%bd%d0%b5%d0%bc%d0%b0-%d1%81%d1%85%d0%be%d0%b4%d0%b8%d0%bd-4/
CATEGORIES:Новацтво
END:VEVENT
BEGIN:VEVENT
DTSTART;TZID=America/New_York:20200404T160000
DTEND;TZID=America/New_York:20200404T160000
DTSTAMP:20260421T132151
CREATED:20191209T153012Z
LAST-MODIFIED:20200415T145930Z
UID:3606-1586016000-1586016000@www.plasttoronto.ca
SUMMARY:НОВАЦЬКІ сходини - ВІДКЛИКАНІ до кінця квітня 2020р.  відкликане писання писанок - УПН (новацтво)
DESCRIPTION:
URL:https://www.plasttoronto.ca/event/%d0%bf%d0%b8%d1%81%d0%b0%d0%bd%d0%bd%d1%8f-%d0%bf%d0%b8%d1%81%d0%b0%d0%bd%d0%be%d0%ba/
CATEGORIES:Новацтво
END:VEVENT
BEGIN:VEVENT
DTSTART;TZID=America/New_York:20200328T143000
DTEND;TZID=America/New_York:20200328T160000
DTSTAMP:20260421T132151
CREATED:20191209T153012Z
LAST-MODIFIED:20191209T153012Z
UID:3605-1585405800-1585411200@www.plasttoronto.ca
SUMMARY:Ройові Сходини (10 - гніздові)
DESCRIPTION:
URL:https://www.plasttoronto.ca/event/%d1%80%d0%be%d0%b9%d0%be%d0%b2%d1%96-%d1%81%d1%85%d0%be%d0%b4%d0%b8%d0%bd%d0%b8-10-%d0%b3%d0%bd%d1%96%d0%b7%d0%b4%d0%be%d0%b2%d1%96-2/
CATEGORIES:Новацтво
END:VEVENT
BEGIN:VEVENT
DTSTART;TZID=America/New_York:20200321T000000
DTEND;TZID=America/New_York:20200321T235959
DTSTAMP:20260421T132151
CREATED:20191209T153011Z
LAST-MODIFIED:20191209T153011Z
UID:3604-1584748800-1584835199@www.plasttoronto.ca
SUMMARY:Нема Сходин
DESCRIPTION:
URL:https://www.plasttoronto.ca/event/%d0%bd%d0%b5%d0%bc%d0%b0-%d1%81%d1%85%d0%be%d0%b4%d0%b8%d0%bd-3/
CATEGORIES:Новацтво
END:VEVENT
BEGIN:VEVENT
DTSTART;TZID=America/New_York:20200314T000000
DTEND;TZID=America/New_York:20200314T235959
DTSTAMP:20260421T132151
CREATED:20191209T153011Z
LAST-MODIFIED:20191209T153011Z
UID:3603-1584144000-1584230399@www.plasttoronto.ca
SUMMARY:Нема Сходин
DESCRIPTION:
URL:https://www.plasttoronto.ca/event/%d0%bd%d0%b5%d0%bc%d0%b0-%d1%81%d1%85%d0%be%d0%b4%d0%b8%d0%bd-2/
CATEGORIES:Новацтво
END:VEVENT
BEGIN:VEVENT
DTSTART;TZID=America/New_York:20200307T143000
DTEND;TZID=America/New_York:20200307T160000
DTSTAMP:20260421T132151
CREATED:20191209T153011Z
LAST-MODIFIED:20191209T153011Z
UID:3602-1583591400-1583596800@www.plasttoronto.ca
SUMMARY:Ройові Сходини (2 - гніздові)
DESCRIPTION:
URL:https://www.plasttoronto.ca/event/%d1%80%d0%be%d0%b9%d0%be%d0%b2%d1%96-%d1%81%d1%85%d0%be%d0%b4%d0%b8%d0%bd%d0%b8-2-%d0%b3%d0%bd%d1%96%d0%b7%d0%b4%d0%be%d0%b2%d1%96/
CATEGORIES:Новацтво
END:VEVENT
BEGIN:VEVENT
DTSTART;TZID=America/New_York:20200229T143000
DTEND;TZID=America/New_York:20200229T160000
DTSTAMP:20260421T132151
CREATED:20191209T153009Z
LAST-MODIFIED:20191209T153009Z
UID:3601-1582986600-1582992000@www.plasttoronto.ca
SUMMARY:Ройові Прогульки
DESCRIPTION:
URL:https://www.plasttoronto.ca/event/%d1%80%d0%be%d0%b9%d0%be%d0%b2%d1%96-%d0%bf%d1%80%d0%be%d0%b3%d1%83%d0%bb%d1%8c%d0%ba%d0%b8/
CATEGORIES:Новацтво
END:VEVENT
BEGIN:VEVENT
DTSTART;TZID=America/New_York:20200222T143000
DTEND;TZID=America/New_York:20200222T160000
DTSTAMP:20260421T132151
CREATED:20191209T153009Z
LAST-MODIFIED:20191209T153009Z
UID:3600-1582381800-1582387200@www.plasttoronto.ca
SUMMARY:Ройові Сходини (10 - гніздові)
DESCRIPTION:
URL:https://www.plasttoronto.ca/event/%d1%80%d0%be%d0%b9%d0%be%d0%b2%d1%96-%d1%81%d1%85%d0%be%d0%b4%d0%b8%d0%bd%d0%b8-10-%d0%b3%d0%bd%d1%96%d0%b7%d0%b4%d0%be%d0%b2%d1%96/
CATEGORIES:Новацтво
END:VEVENT
BEGIN:VEVENT
DTSTART;TZID=America/New_York:20200215T000000
DTEND;TZID=America/New_York:20200215T235959
DTSTAMP:20260421T132151
CREATED:20191209T153009Z
LAST-MODIFIED:20191209T153009Z
UID:3599-1581724800-1581811199@www.plasttoronto.ca
SUMMARY:Нема Сходин
DESCRIPTION:
URL:https://www.plasttoronto.ca/event/%d0%bd%d0%b5%d0%bc%d0%b0-%d1%81%d1%85%d0%be%d0%b4%d0%b8%d0%bd/
CATEGORIES:Новацтво
END:VEVENT
BEGIN:VEVENT
DTSTART;TZID=America/New_York:20200208T143000
DTEND;TZID=America/New_York:20200208T160000
DTSTAMP:20260421T132151
CREATED:20191209T153009Z
LAST-MODIFIED:20191209T153009Z
UID:3598-1581172200-1581177600@www.plasttoronto.ca
SUMMARY:Ройові Сходини (7 - гніздові)
DESCRIPTION:
URL:https://www.plasttoronto.ca/event/%d1%80%d0%be%d0%b9%d0%be%d0%b2%d1%96-%d1%81%d1%85%d0%be%d0%b4%d0%b8%d0%bd%d0%b8-7-%d0%b3%d0%bd%d1%96%d0%b7%d0%b4%d0%be%d0%b2%d1%96/
CATEGORIES:Новацтво
END:VEVENT
BEGIN:VEVENT
DTSTART;TZID=America/New_York:20200201T143000
DTEND;TZID=America/New_York:20200201T160000
DTSTAMP:20260421T132151
CREATED:20191209T153009Z
LAST-MODIFIED:20191209T153009Z
UID:3597-1580567400-1580572800@www.plasttoronto.ca
SUMMARY:Ройові Сходини (5 - гніздові)
DESCRIPTION:
URL:https://www.plasttoronto.ca/event/%d1%80%d0%be%d0%b9%d0%be%d0%b2%d1%96-%d1%81%d1%85%d0%be%d0%b4%d0%b8%d0%bd%d0%b8-5-%d0%b3%d0%bd%d1%96%d0%b7%d0%b4%d0%be%d0%b2%d1%96/
CATEGORIES:Новацтво
END:VEVENT
BEGIN:VEVENT
DTSTART;TZID=America/New_York:20200125T000000
DTEND;TZID=America/New_York:20200125T235959
DTSTAMP:20260421T132151
CREATED:20191209T153007Z
LAST-MODIFIED:20191209T153007Z
UID:3596-1579910400-1579996799@www.plasttoronto.ca
SUMMARY:Зимова Прогулька До Музею (ROM)
DESCRIPTION:
URL:https://www.plasttoronto.ca/event/%d0%b7%d0%b8%d0%bc%d0%be%d0%b2%d0%b0-%d0%bf%d1%80%d0%be%d0%b3%d1%83%d0%bb%d1%8c%d0%ba%d0%b0-%d0%b4%d0%be-%d0%bc%d1%83%d0%b7%d0%b5%d1%8e-rom/
CATEGORIES:Новацтво
END:VEVENT
BEGIN:VEVENT
DTSTART;TZID=America/New_York:20200118T000000
DTEND;TZID=America/New_York:20200118T235900
DTSTAMP:20260421T132151
CREATED:20191209T153007Z
LAST-MODIFIED:20191217T135007Z
UID:3595-1579305600-1579391940@www.plasttoronto.ca
SUMMARY:Коляда
DESCRIPTION:
URL:https://www.plasttoronto.ca/event/%d0%ba%d0%be%d0%bb%d1%8f%d0%b4%d0%b0-2/
CATEGORIES:Новацтво
END:VEVENT
BEGIN:VEVENT
DTSTART;TZID=America/New_York:20200111T000000
DTEND;TZID=America/New_York:20200111T235900
DTSTAMP:20260421T132151
CREATED:20191209T153006Z
LAST-MODIFIED:20191217T135111Z
UID:3593-1578700800-1578787140@www.plasttoronto.ca
SUMMARY:Коляда
DESCRIPTION:
URL:https://www.plasttoronto.ca/event/%d0%ba%d0%be%d0%bb%d1%8f%d0%b4%d0%b0/
CATEGORIES:Новацтво
END:VEVENT
BEGIN:VEVENT
DTSTART;TZID=America/New_York:20200105T190000
DTEND;TZID=America/New_York:20200105T203000
DTSTAMP:20260421T132151
CREATED:20191217T142106Z
LAST-MODIFIED:20191217T142209Z
UID:3978-1578250800-1578256200@www.plasttoronto.ca
SUMMARY:Пластова Свічечка - 2020
DESCRIPTION:
URL:https://www.plasttoronto.ca/event/%d0%bf%d0%bb%d0%b0%d1%81%d1%82%d0%be%d0%b2%d0%b0-%d1%81%d0%b2%d1%96%d1%87%d0%b5%d1%87%d0%ba%d0%b0-2020/
CATEGORIES:Новацтво,Сеніорат,Старше-Пластунство,Юнацтво
END:VEVENT
BEGIN:VEVENT
DTSTART;TZID=America/New_York:20200104T000000
DTEND;TZID=America/New_York:20200104T235959
DTSTAMP:20260421T132151
CREATED:20191209T153004Z
LAST-MODIFIED:20191209T153004Z
UID:3590-1578096000-1578182399@www.plasttoronto.ca
SUMMARY:Нема Сходин (зимові вакації)
DESCRIPTION:
URL:https://www.plasttoronto.ca/event/%d0%bd%d0%b5%d0%bc%d0%b0-%d1%81%d1%85%d0%be%d0%b4%d0%b8%d0%bd-%d0%b7%d0%b8%d0%bc%d0%be%d0%b2%d1%96-%d0%b2%d0%b0%d0%ba%d0%b0%d1%86%d1%96%d1%97-3/
CATEGORIES:Новацтво
END:VEVENT
BEGIN:VEVENT
DTSTART;TZID=America/New_York:20191228T000000
DTEND;TZID=America/New_York:20191228T235959
DTSTAMP:20260421T132151
CREATED:20191209T153004Z
LAST-MODIFIED:20191209T153004Z
UID:3589-1577491200-1577577599@www.plasttoronto.ca
SUMMARY:Нема Сходин (зимові вакації)
DESCRIPTION:
URL:https://www.plasttoronto.ca/event/%d0%bd%d0%b5%d0%bc%d0%b0-%d1%81%d1%85%d0%be%d0%b4%d0%b8%d0%bd-%d0%b7%d0%b8%d0%bc%d0%be%d0%b2%d1%96-%d0%b2%d0%b0%d0%ba%d0%b0%d1%86%d1%96%d1%97-2/
CATEGORIES:Новацтво
END:VEVENT
END:VCALENDAR